BEGIN:VCALENDAR
VERSION:2.0
PRODID:-//Plone.org//NONSGML plone.app.event//EN
X-WR-TIMEZONE:Europe/Berlin
BEGIN:VEVENT
SUMMARY:Let's share our paths!
DTSTART;TZID=GMT+0;VALUE=DATE-TIME:20140417T100000
DTEND;TZID=GMT+0;VALUE=DATE-TIME:20140417T130000
DTSTAMP;VALUE=DATE-TIME:20260420T122334Z
UID:b3021975191f4de288d9e7b4e58d3f95@www.isprambiente.gov.it
CREATED;VALUE=DATE-TIME:20140415T171820Z
LAST-MODIFIED;VALUE=DATE-TIME:20160126T123832Z
LOCATION:Roma
URL:https://www.isprambiente.gov.it/en/archive/ispra-events/2014/april/let
 s-share-our-paths
END:VEVENT
END:VCALENDAR
