BEGIN:VCALENDAR
VERSION:2.0
PRODID:-//Plone.org//NONSGML plone.app.event//EN
X-WR-TIMEZONE:Europe/Berlin
BEGIN:VEVENT
SUMMARY:X Report ISPRA "Quality of Urban Environment" - 2014 Edition
DTSTART;TZID=GMT+0;VALUE=DATE-TIME:20141218T090000
DTEND;TZID=GMT+0;VALUE=DATE-TIME:20141218T140000
DTSTAMP;VALUE=DATE-TIME:20260423T003512Z
UID:e5eb52a8ad5e42d297d446391c3aa4d4@www.isprambiente.gov.it
CREATED;VALUE=DATE-TIME:20141126T105048Z
DESCRIPTION: The Conference for the presentation of the X Report "Quality 
 of the Urban Environment" was held last 18 December.  The publication i
 s the result of a work coordinated by the Environmental Agency System (ISP
 RA / ARPA / APPA)\, with the collaboration of Italian organizations and in
 stitutions. The 2014 edition presents data addressing key environmental is
 sues refered to 73 provincial capitals\, with the aim of disseminating the
  best environmental information available at the national level 
LAST-MODIFIED;VALUE=DATE-TIME:20160810T134317Z
LOCATION:Roma\, Sala UNICEF\, Via Palestro\, 68
URL:https://www.isprambiente.gov.it/en/archive/ispra-events/2014/december/
 x-report-ispra-quality-of-urban-environment-2014-edition
END:VEVENT
END:VCALENDAR
