BEGIN:VCALENDAR
VERSION:2.0
PRODID:-//Plone.org//NONSGML plone.app.event//EN
X-WR-TIMEZONE:Europe/Berlin
BEGIN:VEVENT
SUMMARY:Excursion: The Lake Turano and the High Dam. A geological and natu
 ralistic tour along the way turanense between Lazio and Abruzzo 
DTSTART;TZID=GMT+0;VALUE=DATE-TIME:20141018T093000
DTEND;TZID=GMT+0;VALUE=DATE-TIME:20141018T183000
DTSTAMP;VALUE=DATE-TIME:20260423T091925Z
UID:314a67b47c114bd1936e03bc551fcda1@www.isprambiente.gov.it
CREATED;VALUE=DATE-TIME:20141008T095902Z
LAST-MODIFIED;VALUE=DATE-TIME:20160329T171022Z
LOCATION:Roccasinibalda (RI)\, Castel di Tora (RI)\, Carsoli (AQ) 
URL:https://www.isprambiente.gov.it/en/archive/ispra-events/2014/october/e
 xcursion-the-lake-turano-and-the-high-dam.-a-geological-and-naturalistic-t
 our-along-the-way-turanense-between-lazio-and-abruzzo
END:VEVENT
END:VCALENDAR
