BEGIN:VCALENDAR
VERSION:2.0
PRODID:-//Plone.org//NONSGML plone.app.event//EN
X-WR-TIMEZONE:Europe/Berlin
BEGIN:VEVENT
SUMMARY:Workshop on “Linking Floods Directive (FD 2007/60/EC) and Water 
 Framework Directive (WFD 2000/60/EC)”
DTSTART;TZID=GMT+0;VALUE=DATE-TIME:20141008T140000
DTEND;TZID=GMT+0;VALUE=DATE-TIME:20141010T130000
DTSTAMP;VALUE=DATE-TIME:20260423T061028Z
UID:0e7c19f4329b40f583b541de56a45fbd@www.isprambiente.gov.it
CREATED;VALUE=DATE-TIME:20140724T163049Z
LAST-MODIFIED;VALUE=DATE-TIME:20160223T104201Z
LOCATION:Roma\, Società Geografica Italiana - Palazzetto Mattei in Villa 
 Celimontana - Via della Navicella\, 12
URL:https://www.isprambiente.gov.it/en/archive/ispra-events/2014/october/i
 nterconnessioni-en-en
END:VEVENT
END:VCALENDAR
