BEGIN:VCALENDAR
VERSION:2.0
PRODID:-//Plone.org//NONSGML plone.app.event//EN
X-WR-TIMEZONE:Europe/Berlin
BEGIN:VEVENT
SUMMARY:Workshop "LINKVIT" within the conference ASITA 2014
DTSTART;TZID=GMT+0;VALUE=DATE-TIME:20141014T140000
DTEND;TZID=GMT+0;VALUE=DATE-TIME:20141014T180000
DTSTAMP;VALUE=DATE-TIME:20260423T091452Z
UID:0bbddceb02d740f7b3cdb165088d90cf@www.isprambiente.gov.it
CREATED;VALUE=DATE-TIME:20140919T134921Z
LAST-MODIFIED;VALUE=DATE-TIME:20160329T171047Z
LOCATION:Firenze
URL:https://www.isprambiente.gov.it/en/archive/ispra-events/2014/october/w
 orkshop-linkvit-within-the-conference-asita-2014
END:VEVENT
END:VCALENDAR
