BEGIN:VCALENDAR
VERSION:2.0
PRODID:-//Plone.org//NONSGML plone.app.event//EN
X-WR-TIMEZONE:Europe/Berlin
BEGIN:VEVENT
SUMMARY:Geological Survey of Italy Portal: data for the experts
DTSTART;VALUE=DATE:20190218
DTEND;VALUE=DATE:20190219
DTSTAMP;VALUE=DATE-TIME:20260422T041729Z
UID:4fbbef5e59e04d829fc47df9081e2f7f@www.isprambiente.gov.it
CREATED;VALUE=DATE-TIME:20190123T121630Z
LAST-MODIFIED;VALUE=DATE-TIME:20200401T093554Z
LOCATION:Rome\, Sala Convegni del CNR\, P. le A. Moro\, 7
URL:https://www.isprambiente.gov.it/en/archive/ispra-events/2019/02/geolog
 ical-survey-of-italy-portal-data-for-the-experts
END:VEVENT
END:VCALENDAR
