BEGIN:VCALENDAR
VERSION:2.0
PRODID:-//Plone.org//NONSGML plone.app.event//EN
X-WR-TIMEZONE:Europe/Berlin
BEGIN:VEVENT
SUMMARY:Report on Non-Municipal Waste - edition 2019
DTSTART;VALUE=DATE:20190718
DTEND;VALUE=DATE:20190719
DTSTAMP;VALUE=DATE-TIME:20260424T132921Z
UID:f26ecd75e5484fe7bac2464dc170bb8a@www.isprambiente.gov.it
CREATED;VALUE=DATE-TIME:20190611T111018Z
DESCRIPTION:The Report on Non-Municipal Waste\, now at its eighteenth edit
 ion\, is the result of a complex activity of collection\, analysis and pro
 cessing of data by the National Centre for Waste Circular Economy of ISPRA
 \, with the contribution of regional and provincial Environmental Protecti
 on Agencies\,  that implements a specific task required by article 189\,
  d.lgs. n. 152 of 3th April 2006.   Through an effective and comprehensive
  system of knowledge on waste\, it will provide an objective\, accurate an
 d up to date framework of information\, in support of the legislator to gu
 ide appropriate policies and to monitor their effectiveness\, introducing\
 , if necessary\, corrective measures.
LAST-MODIFIED;VALUE=DATE-TIME:20220119T090529Z
LOCATION:Rome\, Senate of Republic - sala Capitolare presso il Chiostro S.
  Maria Sopra Minerva
URL:https://www.isprambiente.gov.it/en/archive/ispra-events/2019/07/report
 -on-non-municipal-waste-edition-2019
END:VEVENT
END:VCALENDAR
