BEGIN:VCALENDAR
VERSION:2.0
PRODID:-//Plone.org//NONSGML plone.app.event//EN
X-WR-TIMEZONE:Europe/Berlin
BEGIN:VEVENT
SUMMARY:The first ISPRA Environmental Damage Report.  The ascertained case
 s in the years 2017 and 2018
DTSTART;TZID=GMT+0;VALUE=DATE-TIME:20191017T093000
DTEND;TZID=GMT+0;VALUE=DATE-TIME:20191017T130000
DTSTAMP;VALUE=DATE-TIME:20260423T152311Z
UID:9a6534f86bf046a6b9307842692e5e10@www.isprambiente.gov.it
CREATED;VALUE=DATE-TIME:20191008T164613Z
DESCRIPTION:Roma\, 17 october   The 2019 edition of the Environmental Dama
 ge Report in Italy represents the first ISPRA report on the State's action
  on the prevention and repair of environmental damage. With Law 132 -2016\
 , the National System for Environmental Protection  was established\, a c
 oordinated system by ISPRA which has been given the task of supporting\, o
 n a technical level\, the competent authority in environmental damage acti
 ons. The report therefore\, is based on the reconstruction of the cases of
  proven damage in the years 2017 and 2018 and involved interested public a
 nd private subjects: administrations competent in environmental matters\, 
 operators of economic / productive activities\, research bodies\, insuranc
 e companies\, associations of environmental protection and citizens\, stak
 eholders
LAST-MODIFIED;VALUE=DATE-TIME:20210118T082946Z
LOCATION:Roma\, Camera dei Deputati\, Sala del Refettorio\, via del Semina
 rio\, 76
URL:https://www.isprambiente.gov.it/en/archive/ispra-events/2019/10/the-fi
 rst-ispra-environmental-damage-report.-the-cases-ascertained-in-italy-in-t
 he-years-2017-2018
END:VEVENT
END:VCALENDAR
