BEGIN:VCALENDAR
VERSION:2.0
PRODID:-//Plone.org//NONSGML plone.app.event//EN
X-WR-TIMEZONE:Europe/Berlin
BEGIN:VEVENT
SUMMARY:Urban Waste Report edition 2019
DTSTART;VALUE=DATE:20191210
DTEND;VALUE=DATE:20191211
DTSTAMP;VALUE=DATE-TIME:20260420T161900Z
UID:bfe9fa38089f41c0b1163fc5467b7578@www.isprambiente.gov.it
CREATED;VALUE=DATE-TIME:20191205T113619Z
DESCRIPTION:Today ISPRA illustrates at the Italian Deputy Chamber the Muni
 cipal Waste Report 2019. The Ispra Report collects information on the nati
 onal\, regional and provincial level related to production\, management\, 
 separate waste collection\, costs of urban hygiene services and treatment 
 plants. Updated to 2018\, Ispra data on municipal waste show a national pi
 cture of the approximately 8.000 Italian municipalities. From the data\, e
 merges that there are more and more urban waste to be managed: half a tonn
 e a piece in 2018. New growth trend with GDP\, that means urgent preventio
 n policies. Seven regions out of twenty achieve the  65% of recycled wast
 eaccording to the normative. Exports of 500\,000 tons of waste abroad.
LAST-MODIFIED;VALUE=DATE-TIME:20220119T090638Z
LOCATION:Rome
URL:https://www.isprambiente.gov.it/en/archive/ispra-events/2019/12/urban-
 waste-report-edition-2019
END:VEVENT
END:VCALENDAR
