BEGIN:VCALENDAR
VERSION:2.0
PRODID:-//Plone.org//NONSGML plone.app.event//EN
X-WR-TIMEZONE:Europe/Berlin
BEGIN:VEVENT
SUMMARY:Space is good for the nature
DTSTART;TZID=GMT+0;VALUE=DATE-TIME:20200807T193000
DTEND;TZID=GMT+0;VALUE=DATE-TIME:20200807T203000
DTSTAMP;VALUE=DATE-TIME:20260420T233251Z
UID:06042f4c0c854f61b7b1f1cf75142083@www.isprambiente.gov.it
CREATED;VALUE=DATE-TIME:20200805T063011Z
DESCRIPTION:Waiting for the European Researchers' Night\, the NET project 
 proposes next 7 August a debate between an astrophysicist and a naturalist
 .    What do bears in Trentino have to do with spaceships for space explo
 ration? And why is it so important to go back to the moon? The aliens are 
 among us\, but they don't come from another planet.   All this topics will
  be analyzed by the head of the Wildlife Coordination Service of Ispra and
  an astrophysicist from the Space Astrophysics and Planetology Institute o
 f Rome.    Programme      
LAST-MODIFIED;VALUE=DATE-TIME:20210120T104545Z
LOCATION:Roma\, CineVillage Arena Parco Talenti
URL:https://www.isprambiente.gov.it/en/archive/ispra-events/2020/08/space-
 is-good-for-ther-nature
END:VEVENT
END:VCALENDAR
