BEGIN:VCALENDAR
VERSION:2.0
PRODID:-//Plone.org//NONSGML plone.app.event//EN
X-WR-TIMEZONE:Europe/Berlin
BEGIN:VEVENT
SUMMARY:Waiting for the European Researchers' Night 2020 - The sea and Isp
 ra
DTSTART;VALUE=DATE:20200806
DTEND;VALUE=DATE:20200808
DTSTAMP;VALUE=DATE-TIME:20260421T011313Z
UID:9e84bb38d81543a783cbf6275208ec85@www.isprambiente.gov.it
CREATED;VALUE=DATE-TIME:20200730T121838Z
DESCRIPTION:Scientific aperitif   Waiting for the European Researchers' Ni
 ght\, the NET projects proposes a series of a "scientific appetizers" at 
 the beach of Livorno and Quercianella that will be an opportunity to illus
 trate the topics of research in which Ispra is involved with the aim to pr
 otect the marine system.
LAST-MODIFIED;VALUE=DATE-TIME:20210120T104545Z
LOCATION:Livorno
URL:https://www.isprambiente.gov.it/en/archive/ispra-events/2020/08/waitin
 g-for-the-european-researchers-night-2020-the-sea-and-ispra
END:VEVENT
END:VCALENDAR
