BEGIN:VCALENDAR
VERSION:2.0
PRODID:-//Plone.org//NONSGML plone.app.event//EN
X-WR-TIMEZONE:Europe/Berlin
BEGIN:VEVENT
SUMMARY:Testing the effectiveness of the NAP measures for the biodiversity
  protection
DTSTART;VALUE=DATE:20201216
DTEND;VALUE=DATE:20201218
DTSTAMP;VALUE=DATE-TIME:20260423T050826Z
UID:02c3082b3b5247f481d94163f665ca20@www.isprambiente.gov.it
CREATED;VALUE=DATE-TIME:20201127T095958Z
DESCRIPTION:The results of the project funded by the MATTM and carried out
  in cooperation with ARPA Lazio (year 2015-2016)\, ARPA Piemonte (year 201
 5\, 2018-2020)\, University of Rome Tor Vergata will be presented during a
  conference on 16 and 17 December 2020. (DIBIOS Department)\, University o
 f Turin (DBIOS and DISAFA Departments).  The project aims to test the meas
 ures of the National Action Plan for the sustainable use of plant protecti
 on products (PAN) intended for the protection of biodiversity\, to be impl
 emented\, especially in protected areas\, Natura 2000 sites and Ramsar are
 as.    Streaming Live
LAST-MODIFIED;VALUE=DATE-TIME:20210211T141420Z
URL:https://www.isprambiente.gov.it/en/archive/ispra-events/2020/11/testin
 g-the-effectiveness-of-the-nap-measures-for-the-biodiversity-protection
END:VEVENT
END:VCALENDAR
