BEGIN:VCALENDAR
VERSION:2.0
PRODID:-//Plone.org//NONSGML plone.app.event//EN
X-WR-TIMEZONE:Europe/Berlin
BEGIN:VEVENT
SUMMARY:The technical rules for the environmental impact studies
DTSTART;VALUE=DATE:20210303
DTEND;VALUE=DATE:20210401
DTSTAMP;VALUE=DATE-TIME:20260421T102500Z
UID:6cb7740b787f4885bfd3e6d7608b5748@www.isprambiente.gov.it
CATEGORIES:evidence
CREATED;VALUE=DATE-TIME:20210211T153735Z
DESCRIPTION:A series of thematic meeting to present the SNPA document "Env
 ironmental Impact Assessment. The technical rules for the environmental i
 mpact studies"
LAST-MODIFIED;VALUE=DATE-TIME:20220120T123539Z
LOCATION:Webinar
URL:https://www.isprambiente.gov.it/en/archive/ispra-events/2021/03/the-te
 chnical-rules-for-the-environmental-impact-studies
END:VEVENT
END:VCALENDAR
