BEGIN:VCALENDAR
VERSION:2.0
PRODID:-//Plone.org//NONSGML plone.app.event//EN
X-WR-TIMEZONE:Europe/Berlin
BEGIN:VEVENT
SUMMARY:Natural harbor. An immersive show
DTSTART;TZID=GMT+0;VALUE=DATE-TIME:20210618T213000
DTEND;TZID=GMT+0;VALUE=DATE-TIME:20210618T235500
DTSTAMP;VALUE=DATE-TIME:20260423T125034Z
UID:031a4327a2e44b628a22f2b9eb5fa4ca@www.isprambiente.gov.it
CREATED;VALUE=DATE-TIME:20210614T121958Z
DESCRIPTION:The multimedia event\, organized as part of the activities of 
 the GEREMIA Project (Waste Management for the Improvement of Port Waters)\
 , funded by the INTERREG Italy-France Maritime 2014-2020 program\, will al
 low you to discover the activities carried out by the scientific partners 
 and by the Authorities of Port System for the assessment of the quality of
  port waters.
LAST-MODIFIED;VALUE=DATE-TIME:20220119T083420Z
LOCATION:Livorno\, Sede ISPRA\,  Via del Cedro\, 38 (Lato Darsena)
URL:https://www.isprambiente.gov.it/en/archive/ispra-events/2021/06/natura
 l-harbor-an-immersive-show
END:VEVENT
END:VCALENDAR
