BEGIN:VCALENDAR
VERSION:2.0
PRODID:-//Plone.org//NONSGML plone.app.event//EN
X-WR-TIMEZONE:Europe/Berlin
BEGIN:VEVENT
SUMMARY:Presentation of the Special Waste Report
DTSTART;TZID=GMT+0;VALUE=DATE-TIME:20210611T100000
DTEND;TZID=GMT+0;VALUE=DATE-TIME:20210611T113000
DTSTAMP;VALUE=DATE-TIME:20260423T104506Z
UID:24d5f41b5c0d4bfea18722912ebbeabb@www.isprambiente.gov.it
CREATED;VALUE=DATE-TIME:20210530T125235Z
DESCRIPTION:The Special Waste Report presents the data relating to the yea
 r 2019 and is the result of a complex activity of data collection\, analys
 is and processing by the National Center for Waste and Circular Economy of
  ISPRA\, with the contribution of the regional agencies. and provincial fo
 r the Protection of the Environment\, in implementation of a specific inst
 itutional task provided for by Article 189 of Legislative Decree no. 152/2
 006. The goal is to provide an objective and always updated information fr
 amework to support the legislator in guiding adequate policies and interve
 ntions\, monitoring their effectiveness\, introducing\, if necessary\, any
  corrective measures. ISPRA will present the report during a specific web
 inar that is broadcasted on the platform  RICICLA TV . The meeting is a o
 n opportunity of comparison with the main stakeholders on how the manageme
 nt system is reacting to the Covid-19 emergency.    Programme     Cadastre
  Waste     Streaming live ISPRA channel Youtube     Press release (ita)   
   Report on Waste from Economic Activities - 2021     Report on Waste from
  Economic Activities - 2021. Synthesis data     Infografichs
LAST-MODIFIED;VALUE=DATE-TIME:20220119T083516Z
LOCATION:Online event
URL:https://www.isprambiente.gov.it/en/archive/ispra-events/2021/06/presen
 tation-of-the-special-waste-report
END:VEVENT
END:VCALENDAR
