BEGIN:VCALENDAR
VERSION:2.0
PRODID:-//Plone.org//NONSGML plone.app.event//EN
X-WR-TIMEZONE:Europe/Berlin
BEGIN:VEVENT
SUMMARY:Scientific trekking: "Aliens to conquer Rome: a path between anima
 ls and plants "out of place "
DTSTART;TZID=GMT+0;VALUE=DATE-TIME:20210909T171500
DTEND;TZID=GMT+0;VALUE=DATE-TIME:20210909T191500
DTSTAMP;VALUE=DATE-TIME:20260423T125316Z
UID:3f2e2bd524864604be93edf4db0195db@www.isprambiente.gov.it
CATEGORIES:biodiversity
CREATED;VALUE=DATE-TIME:20210603T111013Z
DESCRIPTION:In a late spring afternoon\, in Villa Pamphilj\, a path will l
 ead us to the discovery of "aliens": animal and plant species originating 
 from distant countries\, introduced by man over the centuries\, which have
  made Rome the most "invaded" city of Italy. A story through the history\,
  culture\, biology\, impacts and management of a phenomenon intimately cor
 related with globalization and one of the major threats to the biodiversit
 y of our ecosystems.
LAST-MODIFIED;VALUE=DATE-TIME:20220120T125421Z
LOCATION:Rome\, Villa Pamphilj\, San Pancrazio entrance
URL:https://www.isprambiente.gov.it/en/archive/ispra-events/2021/09/scient
 ific-trekking-aliens-to-conquer-rome-a-path-between-animals-and-plants-out
 -of-place
END:VEVENT
END:VCALENDAR
