BEGIN:VCALENDAR
VERSION:2.0
PRODID:-//Plone.org//NONSGML plone.app.event//EN
X-WR-TIMEZONE:Europe/Berlin
BEGIN:VEVENT
SUMMARY:Environmental statistics for cohesion policies 2014-2020
DTSTART;TZID=GMT+0;VALUE=DATE-TIME:20210708T103000
DTEND;TZID=GMT+0;VALUE=DATE-TIME:20210708T123000
DTSTAMP;VALUE=DATE-TIME:20260423T060912Z
UID:258d89646bda4a1fbd97f8092f8aeb73@www.isprambiente.gov.it
CREATED;VALUE=DATE-TIME:20210624T091123Z
DESCRIPTION:Since May 2018 ISPRA has been a beneficiary of the project aim
 ed at expanding the set of territorial indicators today released by public
  statistics on the environment\, satisfying on the one hand the new intern
 ational information requests (for example  SDG indicators  )and at the s
 ame time aligning the availability of data and indicators to the informati
 on needs of policy makers.
LAST-MODIFIED;VALUE=DATE-TIME:20220119T083856Z
LOCATION:Online event
URL:https://www.isprambiente.gov.it/en/archive/ispra-events/2021/july/envi
 ronmental-statistics-2014-2020
END:VEVENT
END:VCALENDAR
