BEGIN:VCALENDAR
VERSION:2.0
PRODID:-//Plone.org//NONSGML plone.app.event//EN
X-WR-TIMEZONE:Europe/Berlin
BEGIN:VEVENT
SUMMARY:Jelly. Systems and tools for locating jellyfishs and predicting th
 eir displacement towards the coast
DTSTART;TZID=GMT+0;VALUE=DATE-TIME:20220615T093000
DTEND;TZID=GMT+0;VALUE=DATE-TIME:20220615T130000
DTSTAMP;VALUE=DATE-TIME:20260420T203009Z
UID:dc43fee9db6c416988a41a9096b5db74@www.isprambiente.gov.it
CREATED;VALUE=DATE-TIME:20220603T140141Z
DESCRIPTION:In the last decade the presence of jellyfish in the Mediterran
 ean Sea is rising causing impacts on the marine environment and on human a
 ctivities.  In order to mitigate this phenomenon a key strategy comprises 
 the setting up of early warning and forecasting systems based on large sca
 le observations and numerical model fields such as those available from th
 e Copernicus products (EO and other data from the Marine Environment Monit
 oring Service).   The workshop aims to discuss the latest improvements 
 in the detection\, spreading and forecasting of jellyfish blooms and the 
 different experiences on the use of Copernicus data in this field.   It w
 ill be organized in two sessions: the first concerning the observation me
 thods and the second concerning  the occurrence and dispersal forecasting
  of jellyfish blooms.    Program
LAST-MODIFIED;VALUE=DATE-TIME:20230112T102451Z
LOCATION:Online event
URL:https://www.isprambiente.gov.it/en/archive/ispra-events/2022/06/system
 s-and-tools-for-locating-jellyfishs-and-predicting-their-displacement-towa
 rds-the-coast
END:VEVENT
END:VCALENDAR
