BEGIN:VCALENDAR
VERSION:2.0
PRODID:-//Plone.org//NONSGML plone.app.event//EN
X-WR-TIMEZONE:Europe/Berlin
BEGIN:VEVENT
SUMMARY:Study Days: Water "from modifying to modified" - II Edition
DTSTART;TZID=GMT+0;VALUE=DATE-TIME:20221104T093000
DTEND;TZID=GMT+0;VALUE=DATE-TIME:20221104T153000
DTSTAMP;VALUE=DATE-TIME:20260423T061029Z
UID:1f7d09d383ab4972b9f2a89dbe67047b@www.isprambiente.gov.it
CREATED;VALUE=DATE-TIME:20221017T150400Z
DESCRIPTION:The gradual end of the isolation due to the pandemic and the r
 esumption of daily life\, still characterized by fear of certain forms of 
 sociability and awareness of technological fallibility\, have accelerated 
 the process of a conscious resumption of a healthy relationship with the t
 erritory.
LAST-MODIFIED;VALUE=DATE-TIME:20230112T103059Z
LOCATION:Sala Conferenze della Cartiera Latina - via Appia Antica 42\, Rom
 e
URL:https://www.isprambiente.gov.it/en/archive/ispra-events/2022/11/study-
 days-water-from-modifying-to-modified-ii-edition
END:VEVENT
END:VCALENDAR
