BEGIN:VCALENDAR
VERSION:2.0
PRODID:-//Plone.org//NONSGML plone.app.event//EN
X-WR-TIMEZONE:Europe/Berlin
BEGIN:VEVENT
SUMMARY:The silent revolution of water
DTSTART;TZID=Europe/Berlin;VALUE=DATE-TIME:20230323T083000
DTEND;TZID=Europe/Berlin;VALUE=DATE-TIME:20230323T170000
DTSTAMP;VALUE=DATE-TIME:20260419T230414Z
UID:d8f48b29b8564d929ec7f67bcfc88819@www.isprambiente.gov.it
CREATED;VALUE=DATE-TIME:20230228T205355Z
DESCRIPTION:Data\, tools and dialogue for sustainable governance   The new
  Directive (EU) 2020/2184 on the quality of water intended for human consu
 mption introduces a holistic approach to water safety which provides for n
 ew models for analyzing and managing the risks of contamination extended f
 rom the natural water cycle to the integrated water cycle . The Directive 
 revolutionizes the existing control system\, with a preventive criterion\,
  based on the analysis of potentially dangerous situations that could occu
 r and introduces new and higher standards on the quality of water intended
  for human consumption.   The event is promoted as part of the  WHOW  (Wat
 er Health Open knowWledge) project\, aimed at creating a European infrastr
 ucture capable of linking environmental and health data. These open data w
 ill be essential for identifying the relationships between the exploitatio
 n of water resources and the spread of diseases.   The meeting is open to 
 researchers\, technicians\, sector operators and anyone interested in the 
 topic.    Program     Photo gallery    Presentation      Fare sistema: il 
 valore dei dati acqua-salute  Carmen Ciciriello\,  coordinatrice del Prog
 etto WHOW
LAST-MODIFIED;VALUE=DATE-TIME:20240118T105935Z
URL:https://www.isprambiente.gov.it/en/archive/ispra-events/2023/03/the-si
 lent-revolution-of-water
END:VEVENT
BEGIN:VTIMEZONE
TZID:Europe/Berlin
X-LIC-LOCATION:Europe/Berlin
BEGIN:STANDARD
DTSTART;VALUE=DATE-TIME:20221030T020000
TZNAME:CET
TZOFFSETFROM:+0200
TZOFFSETTO:+0100
END:STANDARD
END:VTIMEZONE
END:VCALENDAR
