BEGIN:VCALENDAR
VERSION:2.0
PRODID:-//Plone.org//NONSGML plone.app.event//EN
X-WR-TIMEZONE:Europe/Berlin
BEGIN:VEVENT
SUMMARY:Presentation of the "Environment Report SNPA" - edition 2023
DTSTART;TZID=Europe/Berlin;VALUE=DATE-TIME:20240221T093000
DTEND;TZID=Europe/Berlin;VALUE=DATE-TIME:20240221T123000
DTSTAMP;VALUE=DATE-TIME:20260423T061631Z
UID:685986dc0cd04bf395479ff688f9ae74@www.isprambiente.gov.it
CREATED;VALUE=DATE-TIME:20240126T150533Z
DESCRIPTION:The Report\, now in its fourth edition\, offers a detailed ove
 rview of the state of our environment based on objective\, reliable and co
 mparable information\, with 21 environmental indicators that allow us to e
 valuate the achievement of the numerous set objectives and to effectively 
 address future environmental challenges . The second part of the document 
 highlights the commitment and work of ISPRA and the ARPA/APPA\, through a 
 focus on best practices for the fight against climate change\, to support 
 the circular economy\, to contribute to the process of sustainable finance
 \, to protect our health and our planet and to raise awareness and inform 
 the community.    Program     Spot Environment Report  SNPA     Environme
 nt Report SNPA - Edition 2023
LAST-MODIFIED;VALUE=DATE-TIME:20250217T083930Z
LOCATION:Rome\, Sala Polifunzionale della Presidenza del Consiglio dei Min
 istri\, Via di Santa Maria in Via\, 37b
URL:https://www.isprambiente.gov.it/en/archive/ispra-events/2024/02/presen
 tation-of-the-environment-report-snpa-edition-2023
END:VEVENT
BEGIN:VTIMEZONE
TZID:Europe/Berlin
X-LIC-LOCATION:Europe/Berlin
BEGIN:STANDARD
DTSTART;VALUE=DATE-TIME:20231029T020000
TZNAME:CET
TZOFFSETFROM:+0200
TZOFFSETTO:+0100
END:STANDARD
END:VTIMEZONE
END:VCALENDAR
