BEGIN:VCALENDAR
VERSION:2.0
PRODID:-//Plone.org//NONSGML plone.app.event//EN
X-WR-TIMEZONE:Europe/Berlin
BEGIN:VEVENT
SUMMARY:ISPRA presents the fourth report on hydrogeological instability in
  Italy: danger and risk indicators. Understanding the territory to prevent
  risks
DTSTART;TZID=Europe/Berlin;VALUE=DATE-TIME:20250730T090000
DTEND;TZID=Europe/Berlin;VALUE=DATE-TIME:20250730T133000
DTSTAMP;VALUE=DATE-TIME:20260423T012522Z
UID:d09b0dc158194a5b926719d3e45f226c@www.isprambiente.gov.it
CREATED;VALUE=DATE-TIME:20250707T100010Z
DESCRIPTION:The area of Italy at risk for landslides\, as defined in the H
 ydrogeological Planning (PAI)\, has increased by 15%\, from 55\,400 km² i
 n 2021 to 69\,500 km² in 2024\, equal to 23% of the national territory. T
 he most significant increases were recorded in the Autonomous Province of 
 Bolzano (+61.2%)\, Tuscany (+52.8%)\, Sardinia (+29.4%)\, and Sicily (+20.
 2%) and are primarily due to more detailed studies conducted by the distri
 ct basin authorities and the autonomous provinces. The areas classified as
  highly at risk (high P3 and very high P4) have increased from 8.7% to 9.5
 % of the national territory. In 2024\, 94.5% of Italian municipalities are
  at risk of landslides\, floods\, coastal erosion\, or avalanches.   The s
 ituation on Italian beaches is improving: in terms of coastal erosion\, th
 ere are more advancing stretches (+30 km) than eroding ones.   This is the
  picture that emerges from the fourth  ISPRA Report on "Hydrogeological In
 stability in Italy"  - 2024 Edition - the Institute's three-year work pres
 ented this morning in Rome at the Multipurpose Hall of the Presidency of t
 he Council of Ministers.   "A thorough understanding of landslide phenomen
 a is the essential foundation for effective risk prevention and mitigation
  policies\, but so is communication and information dissemination\," state
 d ISPRA President Stefano Laporta. "Hydrogeological instability is not jus
 t a technical or structural issue\; it affects the daily lives of each of 
 us\, the safety of our communities\, and the prospect of a resilient envir
 onment. Active citizen involvement is essential\; their contribution is in
 valuable on multiple fronts\, from collecting timely reports from the loca
 l area to supporting the dissemination of information and participating in
  local emergency plans."   "The ISPRA report shows that 19.2% of the natio
 nal territory is classified as being at greatest risk for landslides and f
 loods\, and Italy remains among the most exposed European countries in ter
 ms of landslides\, with over 636\,000 recorded landslides\," stated ISPRA 
 Director General Maria Siclari. "Indicators and maps on hydrogeological in
 stability are taking on an increasingly important role also in the field o
 f sustainable finance\, assessment and management of physical and financia
 l risks associated with the economic impact of extreme natural events\," e
 xplained the Director General. "ISPRA data on hydrogeological instability 
 are a fundamental tool to support public policies and strategic plannig". 
    Press release (ita)     Program     Hydrogeological instability in Ital
 y: hazards and risk indicators. 2024 Edition     IdroGEO     Photo gallery
LAST-MODIFIED;VALUE=DATE-TIME:20260209T125459Z
LOCATION:Rome\, Multipurpose Hall of the Presidency of the Council of Mini
 sters\, Via Santa Maria in Via 37 A
URL:https://www.isprambiente.gov.it/en/archive/ispra-events/2025/07/ispra-
 presents-the-fourth-report-on-hydrogeological-instability-in-italy-danger-
 and-risk-indicators
END:VEVENT
BEGIN:VTIMEZONE
TZID:Europe/Berlin
X-LIC-LOCATION:Europe/Berlin
BEGIN:DAYLIGHT
DTSTART;VALUE=DATE-TIME:20250330T030000
TZNAME:CEST
TZOFFSETFROM:+0100
TZOFFSETTO:+0200
END:DAYLIGHT
END:VTIMEZONE
END:VCALENDAR
