BEGIN:VCALENDAR
VERSION:2.0
PRODID:-//Plone.org//NONSGML plone.app.event//EN
X-WR-TIMEZONE:Europe/Berlin
BEGIN:VEVENT
SUMMARY:Citizen Science in Tiber
DTSTART;TZID=Europe/Berlin;VALUE=DATE-TIME:20250926T183000
DTEND;TZID=Europe/Berlin;VALUE=DATE-TIME:20250926T230000
DTSTAMP;VALUE=DATE-TIME:20260423T134518Z
UID:2de1f09892494d5186a6afe85025c7e7@www.isprambiente.gov.it
CREATED;VALUE=DATE-TIME:20250909T101130Z
DESCRIPTION:We will guide participants in an environmental monitoring acti
 vity on the Tiber River\, collecting water samples and analyzing them with
  portable kits to detect nitrates and phosphates. Together\, we will learn
  what these parameters indicate\, the sources of pollution\, and the impor
 tance of protecting the quality of our rivers.   Participation recommended
  for both children and adults.
LAST-MODIFIED;VALUE=DATE-TIME:20260209T125526Z
LOCATION:Roma Testaccio – Città dell’Altra Economia
URL:https://www.isprambiente.gov.it/en/archive/ispra-events/2025/09/citize
 n-science-in-tiber
END:VEVENT
BEGIN:VTIMEZONE
TZID:Europe/Berlin
X-LIC-LOCATION:Europe/Berlin
BEGIN:DAYLIGHT
DTSTART;VALUE=DATE-TIME:20250330T030000
TZNAME:CEST
TZOFFSETFROM:+0100
TZOFFSETTO:+0200
END:DAYLIGHT
END:VTIMEZONE
END:VCALENDAR
