BEGIN:VCALENDAR
VERSION:2.0
PRODID:-//Plone.org//NONSGML plone.app.event//EN
X-WR-TIMEZONE:Europe/Berlin
BEGIN:VEVENT
SUMMARY:Farming the Sea
DTSTART;TZID=Europe/Berlin;VALUE=DATE-TIME:20250926T183000
DTEND;TZID=Europe/Berlin;VALUE=DATE-TIME:20250926T230000
DTSTAMP;VALUE=DATE-TIME:20260420T202829Z
UID:51f3239f1f214912a6bd30c5077ac89a@www.isprambiente.gov.it
CREATED;VALUE=DATE-TIME:20250909T102456Z
DESCRIPTION:The educational workshop is an immersive experience on the top
 ic of sustainable aquaculture. It explores the opportunities and purposes 
 of aquaculture (e.g.\, food production\; conservation of threatened specie
 s)\, the environments\, techniques\, and aquatic species farmed. It also a
 ddresses the interactions between aquaculture and marine ecosystems in a c
 hanging climate.   Recommended: from age 8 and up.
LAST-MODIFIED;VALUE=DATE-TIME:20260209T125526Z
LOCATION:Rome Testaccio – Città dell’Altra Economia
URL:https://www.isprambiente.gov.it/en/archive/ispra-events/2025/09/farmin
 g-the-sea
END:VEVENT
BEGIN:VTIMEZONE
TZID:Europe/Berlin
X-LIC-LOCATION:Europe/Berlin
BEGIN:DAYLIGHT
DTSTART;VALUE=DATE-TIME:20250330T030000
TZNAME:CEST
TZOFFSETFROM:+0100
TZOFFSETTO:+0200
END:DAYLIGHT
END:VTIMEZONE
END:VCALENDAR
