BEGIN:VCALENDAR
VERSION:2.0
PRODID:-//Plone.org//NONSGML plone.app.event//EN
X-WR-TIMEZONE:Europe/Berlin
BEGIN:VEVENT
SUMMARY:Sea Guardians
DTSTART;TZID=Europe/Berlin;VALUE=DATE-TIME:20250927T183000
DTEND;TZID=Europe/Berlin;VALUE=DATE-TIME:20250927T230000
DTSTAMP;VALUE=DATE-TIME:20260423T121708Z
UID:e051f0c9a2624835b396dd798ca77fe4@www.isprambiente.gov.it
CREATED;VALUE=DATE-TIME:20250909T103257Z
DESCRIPTION:We will focus on the protection and conservation of two protec
 ted habitats: Posidonia oceanica meadows and Coralligenous formations\, bo
 th threatened by various human activities (anchoring\, ghost fishing). We 
 will explore their biodiversity and discuss the role of fishers in safegua
 rding the sea\, and how sustainable fishing can contribute to the conserva
 tion of habitats and their resources.   Recommended: from age 8 and up.
LAST-MODIFIED;VALUE=DATE-TIME:20260209T125526Z
LOCATION:Rome Testaccio – Città dell’Altra Economia
URL:https://www.isprambiente.gov.it/en/archive/ispra-events/2025/09/sea-gu
 ardians
END:VEVENT
BEGIN:VTIMEZONE
TZID:Europe/Berlin
X-LIC-LOCATION:Europe/Berlin
BEGIN:DAYLIGHT
DTSTART;VALUE=DATE-TIME:20250330T030000
TZNAME:CEST
TZOFFSETFROM:+0100
TZOFFSETTO:+0200
END:DAYLIGHT
END:VTIMEZONE
END:VCALENDAR
