BEGIN:VCALENDAR
VERSION:2.0
PRODID:-//Plone.org//NONSGML plone.app.event//EN
X-WR-TIMEZONE:Europe/Berlin
BEGIN:VEVENT
SUMMARY:Summer School Marine-coastal ecosystems and climate change: chains
  of connections and resilience
DTSTART;VALUE=DATE:20250922
DTEND;VALUE=DATE:20250927
DTSTAMP;VALUE=DATE-TIME:20260420T104947Z
UID:ba80762ef9be4cc4a303d2e43f1b4ad8@www.isprambiente.gov.it
CATEGORIES:evidence
CREATED;VALUE=DATE-TIME:20250526T170236Z
DESCRIPTION:As part of the School of Specialization in environmental disci
 plines\, ISPRA organizes in Cagliari\, from 22 to 26 September 2025\, the 
 Summer School “Marine-coastal ecosystems and climate change: chains of c
 onnections and resilience”\, aimed at 45 participants including graduate
 s\, PhD students and young researchers. The initiative aims to provide a p
 ractical approach to the sustainable management of the coastal strip\, enc
 ouraging dialogue between universities and applied research. The activitie
 s will take place in various institutional locations with frontal lessons\
 ; educational workshops and technical-scientific visits to some coastal si
 tes are planned.   The call and the registration link will soon be availab
 le on the ISPRA website.
LAST-MODIFIED;VALUE=DATE-TIME:20260209T125943Z
LOCATION:Cagliari
URL:https://www.isprambiente.gov.it/en/archive/ispra-events/2025/09/summer
 -school-marine-coastal-ecosystems-and-climate-change-chains-of-connections
 -and-resilience
END:VEVENT
END:VCALENDAR
