BEGIN:VCALENDAR
VERSION:2.0
PRODID:-//Plone.org//NONSGML plone.app.event//EN
X-WR-TIMEZONE:Europe/Berlin
BEGIN:VEVENT
SUMMARY:Tide gauge network and tide forecast
DTSTART;TZID=Europe/Berlin;VALUE=DATE-TIME:20250926T160000
DTEND;TZID=Europe/Berlin;VALUE=DATE-TIME:20250926T190000
DTSTAMP;VALUE=DATE-TIME:20260423T121723Z
UID:606baf1315a94ba3b61b19ae2bd3b492@www.isprambiente.gov.it
CREATED;VALUE=DATE-TIME:20250909T132642Z
DESCRIPTION:Visitors will be able to observe the average sea level in Veni
 ce from 1872 to the present\, the variation in the frequency of high water
 s in the lagoon\, and a physical description of the tidal phenomenon and h
 igh waters in Venice.
LAST-MODIFIED;VALUE=DATE-TIME:20260209T125526Z
LOCATION:Venice
URL:https://www.isprambiente.gov.it/en/archive/ispra-events/2025/09/tide-g
 auge-network-and-tide-forecast
END:VEVENT
BEGIN:VTIMEZONE
TZID:Europe/Berlin
X-LIC-LOCATION:Europe/Berlin
BEGIN:DAYLIGHT
DTSTART;VALUE=DATE-TIME:20250330T030000
TZNAME:CEST
TZOFFSETFROM:+0100
TZOFFSETTO:+0200
END:DAYLIGHT
END:VTIMEZONE
END:VCALENDAR
