BEGIN:VCALENDAR
VERSION:2.0
PRODID:-//Plone.org//NONSGML plone.app.event//EN
X-WR-TIMEZONE:Europe/Berlin
BEGIN:VEVENT
SUMMARY:Sustainable Finance\, the web platform created by ISPRA with the c
 ontribution of the Ministry of Business and Made in Italy
DTSTART;TZID=Europe/Berlin;VALUE=DATE-TIME:20251105T103000
DTEND;TZID=Europe/Berlin;VALUE=DATE-TIME:20251105T110000
DTSTAMP;VALUE=DATE-TIME:20260425T180733Z
UID:7d2624a4c61649a0a104384c37c7aa4d@www.isprambiente.gov.it
CREATED;VALUE=DATE-TIME:20251030T150852Z
DESCRIPTION:ISPRA\, with the contribution of MIMIT as part of the "Let's M
 ake It Circular" campaign\, is developing a web platform for sustainable f
 inance aimed at businesses\, citizens\, and financial operators. The goal 
 is to transform the ISPRA Guideline " The Environmental Challenge for Sust
 ainable Finance: Methodologies\, Information\, and Environmental Indicator
 s " into a more accessible and usable digital tool. The platform will serv
 e as a methodological support and guidance tool to facilitate environmenta
 l sustainability reporting in accordance with the new European standards.
LAST-MODIFIED;VALUE=DATE-TIME:20260209T125553Z
LOCATION:Fiera di Rimini\, Ecomondo\, Stand ISPRA/SNPA Spazio Talk Facciam
 o Circolare
URL:https://www.isprambiente.gov.it/en/archive/ispra-events/2025/10/sustai
 nable-finance-the-web-platform-created-by-ispra-with-the-contribution-of-t
 he-ministry-of-business-and-made-in-italy
END:VEVENT
BEGIN:VTIMEZONE
TZID:Europe/Berlin
X-LIC-LOCATION:Europe/Berlin
BEGIN:STANDARD
DTSTART;VALUE=DATE-TIME:20251026T020000
TZNAME:CET
TZOFFSETFROM:+0200
TZOFFSETTO:+0100
END:STANDARD
END:VTIMEZONE
END:VCALENDAR
