BEGIN:VCALENDAR
VERSION:2.0
PRODID:-//Plone.org//NONSGML plone.app.event//EN
X-WR-TIMEZONE:Europe/Berlin
BEGIN:VEVENT
SUMMARY:ERA-Net CRUE Project
DTSTART;TZID=GMT+0;VALUE=DATE-TIME:20090101T090000
DTEND;TZID=GMT+0;VALUE=DATE-TIME:20090101T150000
DTSTAMP;VALUE=DATE-TIME:20260420T104630Z
UID:c2810e1f76064b5d8ed6bcffb9020b25@www.isprambiente.gov.it
CREATED;VALUE=DATE-TIME:20120925T192741Z
LAST-MODIFIED;VALUE=DATE-TIME:20150807T144254Z
LOCATION:Rome
URL:https://www.isprambiente.gov.it/en/archive/ispra-events/year-2009/eran
 et-crue
END:VEVENT
END:VCALENDAR
