BEGIN:VCALENDAR
VERSION:2.0
PRODID:-//Plone.org//NONSGML plone.app.event//EN
X-WR-TIMEZONE:Europe/Berlin
BEGIN:VEVENT
SUMMARY:Environmental culture day
DTSTART;TZID=GMT+0;VALUE=DATE-TIME:20150429T090000
DTEND;TZID=GMT+0;VALUE=DATE-TIME:20150429T130000
DTSTAMP;VALUE=DATE-TIME:20260423T073432Z
UID:e8822f1d1e5b4a62b148c39dc5e688b8@www.isprambiente.gov.it
CREATED;VALUE=DATE-TIME:20150415T150341Z
LAST-MODIFIED;VALUE=DATE-TIME:20160310T105324Z
LOCATION:Rome\, ISPRA - Sala conferenze\, Via V. Brancati 48
URL:https://www.isprambiente.gov.it/en/archive/ispra-events/year-2015/apri
 l/environmental-culture-day
END:VEVENT
END:VCALENDAR
