BEGIN:VCALENDAR
VERSION:2.0
PRODID:-//Plone.org//NONSGML plone.app.event//EN
X-WR-TIMEZONE:Europe/Berlin
BEGIN:VEVENT
SUMMARY:Model unique of environmental statement 2015 (MUD)
DTSTART;TZID=GMT+0;VALUE=DATE-TIME:20150416T093000
DTEND;TZID=GMT+0;VALUE=DATE-TIME:20150416T160000
DTSTAMP;VALUE=DATE-TIME:20260423T074235Z
UID:28932b6e5fc940ff8698b8c3cef0ed00@www.isprambiente.gov.it
CREATED;VALUE=DATE-TIME:20150403T160515Z
LAST-MODIFIED;VALUE=DATE-TIME:20190725T120907Z
LOCATION:Rome\, ISPRA - Sala Conferenze - Via V. Brancati 48
URL:https://www.isprambiente.gov.it/en/archive/ispra-events/year-2015/apri
 l/model-unique-of-environmental-statement-2015-mud
END:VEVENT
END:VCALENDAR
