BEGIN:VCALENDAR
VERSION:2.0
PRODID:-//Plone.org//NONSGML plone.app.event//EN
X-WR-TIMEZONE:Europe/Berlin
BEGIN:VEVENT
SUMMARY:The offshore sand for beach nourishment
DTSTART;TZID=GMT+0;VALUE=DATE-TIME:20150428T103000
DTEND;TZID=GMT+0;VALUE=DATE-TIME:20150428T130000
DTSTAMP;VALUE=DATE-TIME:20260423T073539Z
UID:7e3ac607ea49464fa3db1f21785874b3@www.isprambiente.gov.it
CREATED;VALUE=DATE-TIME:20150414T140504Z
DESCRIPTION:Guidelines and information systems for the correct use (in_San
 d) and environmental monitoring (env_Sand) of submerged deposits
LAST-MODIFIED;VALUE=DATE-TIME:20160310T105312Z
LOCATION:Bologna\, CNR Area della Ricerca di Bologna\, via P. Gobetti\, 10
 1 - Sala 216 
URL:https://www.isprambiente.gov.it/en/archive/ispra-events/year-2015/apri
 l/the-offshore-sand-for-beach-nourishment
END:VEVENT
END:VCALENDAR
