BEGIN:VCALENDAR
VERSION:2.0
PRODID:-//Plone.org//NONSGML plone.app.event//EN
X-WR-TIMEZONE:Europe/Berlin
BEGIN:VEVENT
SUMMARY:National Workshop "Services for Operational Hydrology between Stat
 e\, Regions and National System for Environmental Protection" 
DTSTART;TZID=GMT+0;VALUE=DATE-TIME:20150709T100000
DTEND;TZID=GMT+0;VALUE=DATE-TIME:20150710T163000
DTSTAMP;VALUE=DATE-TIME:20260423T061738Z
UID:a221f0de6195420394faeb1af4cc3817@www.isprambiente.gov.it
CREATED;VALUE=DATE-TIME:20150625T092806Z
LAST-MODIFIED;VALUE=DATE-TIME:20160310T114210Z
LOCATION:Roma\, Unicef - Sala Conferenze - Via Palestro 68
URL:https://www.isprambiente.gov.it/en/archive/ispra-events/year-2015/july
 /national-workshop-services-for-operational-hydrology-between-state-region
 s-and-national-system-for-environmental-protection
END:VEVENT
END:VCALENDAR
