BEGIN:VCALENDAR
VERSION:2.0
PRODID:-//Plone.org//NONSGML plone.app.event//EN
X-WR-TIMEZONE:Europe/Berlin
BEGIN:VEVENT
SUMMARY:Presentation of the Environmental Data Yearbook 2014-2015
DTSTART;TZID=GMT+0;VALUE=DATE-TIME:20150729T090000
DTEND;TZID=GMT+0;VALUE=DATE-TIME:20150729T133000
DTSTAMP;VALUE=DATE-TIME:20260423T073601Z
UID:e9f6b9c529804d26bc937a8cd09a9619@www.isprambiente.gov.it
CREATED;VALUE=DATE-TIME:20150714T162834Z
LAST-MODIFIED;VALUE=DATE-TIME:20160810T134218Z
LOCATION:Roma\, Auditorium MATTM - Via Capitan Bavastro\, 180 
URL:https://www.isprambiente.gov.it/en/archive/ispra-events/year-2015/july
 /presentation-of-the-environmental-data-yearbook-2014-2015-1
END:VEVENT
END:VCALENDAR
