BEGIN:VCALENDAR
VERSION:2.0
PRODID:-//Plone.org//NONSGML plone.app.event//EN
X-WR-TIMEZONE:Europe/Berlin
BEGIN:VEVENT
SUMMARY:Presentation Report on Special Waste-Edition 2015
DTSTART;TZID=GMT+0;VALUE=DATE-TIME:20150727T000000
DTEND;TZID=GMT+0;VALUE=DATE-TIME:20150727T000000
DTSTAMP;VALUE=DATE-TIME:20260423T073510Z
UID:7d081b28f4e94466a00f36d54794b216@www.isprambiente.gov.it
CREATED;VALUE=DATE-TIME:20150703T141255Z
LAST-MODIFIED;VALUE=DATE-TIME:20160310T112029Z
LOCATION:Location to be defined
URL:https://www.isprambiente.gov.it/en/archive/ispra-events/year-2015/july
 /presentation-report-on-special-waste-edition-2015
END:VEVENT
END:VCALENDAR
