BEGIN:VCALENDAR
VERSION:2.0
PRODID:-//Plone.org//NONSGML plone.app.event//EN
X-WR-TIMEZONE:Europe/Berlin
BEGIN:VEVENT
SUMMARY:Press conference for the presentation of  the Special Waste Report
  produced by ISPRA – edition 2015
DTSTART;TZID=GMT+0;VALUE=DATE-TIME:20150728T100000
DTEND;TZID=GMT+0;VALUE=DATE-TIME:20150728T130000
DTSTAMP;VALUE=DATE-TIME:20260423T073539Z
UID:9380dda33ddb49fe987c207e0cb166e6@www.isprambiente.gov.it
CREATED;VALUE=DATE-TIME:20150715T165306Z
LAST-MODIFIED;VALUE=DATE-TIME:20160310T140506Z
LOCATION:Rome\,  Chamber of Deputies Press Room
URL:https://www.isprambiente.gov.it/en/archive/ispra-events/year-2015/july
 /press-conference-special-waste-report-edition-2015
END:VEVENT
END:VCALENDAR
