BEGIN:VCALENDAR
VERSION:2.0
PRODID:-//Plone.org//NONSGML plone.app.event//EN
X-WR-TIMEZONE:Europe/Berlin
BEGIN:VEVENT
SUMMARY:Coastal Erosion and climate change: adaption strategies\, manageme
 nt and environment al sustainability 
DTSTART;TZID=GMT+0;VALUE=DATE-TIME:20151103T093000
DTEND;TZID=GMT+0;VALUE=DATE-TIME:20151103T163000
DTSTAMP;VALUE=DATE-TIME:20260423T084340Z
UID:5a24221b068a4d57b5b417fa2bbef3cc@www.isprambiente.gov.it
CREATED;VALUE=DATE-TIME:20151007T092226Z
LAST-MODIFIED;VALUE=DATE-TIME:20160310T105748Z
LOCATION:Rome - Roma Eventi - Fontana di Trevi\, piazza della Pilotta\, 4 
URL:https://www.isprambiente.gov.it/en/archive/ispra-events/year-2015/nove
 mber/coastal-erosion-and-climate-change-adaptation-strategies-m
END:VEVENT
END:VCALENDAR
