BEGIN:VCALENDAR
VERSION:2.0
PRODID:-//Plone.org//NONSGML plone.app.event//EN
X-WR-TIMEZONE:Europe/Berlin
BEGIN:VEVENT
SUMMARY:From Service Core to User Up-take potentiality of Downstream  and 
 Upstream for Small and medium-sized enterprises (SMEs)
DTSTART;TZID=GMT+0;VALUE=DATE-TIME:20151125T083000
DTEND;TZID=GMT+0;VALUE=DATE-TIME:20151125T133000
DTSTAMP;VALUE=DATE-TIME:20260423T084352Z
UID:cf480ed731b849e9895129dcbf30ae89@www.isprambiente.gov.it
CREATED;VALUE=DATE-TIME:20151112T101654Z
LAST-MODIFIED;VALUE=DATE-TIME:20160310T105817Z
URL:https://www.isprambiente.gov.it/en/archive/ispra-events/year-2015/nove
 mber/from-service-core-to-user-up-take-potentiality-of-downstream-and-upst
 ream-for-small-and-medium-sized-enterprises-smes
END:VEVENT
END:VCALENDAR
