BEGIN:VCALENDAR
VERSION:2.0
PRODID:-//Plone.org//NONSGML plone.app.event//EN
X-WR-TIMEZONE:Europe/Berlin
BEGIN:VEVENT
SUMMARY:General States of Urban Green
DTSTART;TZID=GMT+0;VALUE=DATE-TIME:20151118T150000
DTEND;TZID=GMT+0;VALUE=DATE-TIME:20151120T130000
DTSTAMP;VALUE=DATE-TIME:20260423T084340Z
UID:a2717a5f1d7445ec93e3b4cb4be55107@www.isprambiente.gov.it
CREATED;VALUE=DATE-TIME:20151106T152122Z
LAST-MODIFIED;VALUE=DATE-TIME:20160512T162549Z
LOCATION:Roma
URL:https://www.isprambiente.gov.it/en/archive/ispra-events/year-2015/nove
 mber/general-states-of-urban-green
END:VEVENT
END:VCALENDAR
