BEGIN:VCALENDAR
VERSION:2.0
PRODID:-//Plone.org//NONSGML plone.app.event//EN
X-WR-TIMEZONE:Europe/Berlin
BEGIN:VEVENT
SUMMARY:Presentation of the photographic volume “Deep colors of the Medi
 terranean”
DTSTART;TZID=GMT+0;VALUE=DATE-TIME:20151126T180000
DTEND;TZID=GMT+0;VALUE=DATE-TIME:20151126T193000
DTSTAMP;VALUE=DATE-TIME:20260423T054459Z
UID:cb4a0f273d8b4fed9e2b72cb240edd52@www.isprambiente.gov.it
CREATED;VALUE=DATE-TIME:20151118T083941Z
LAST-MODIFIED;VALUE=DATE-TIME:20160310T161944Z
LOCATION:Rome\, Museo Civico di Zoologia\, via Ulisse Aldrovandi 18\, 
URL:https://www.isprambiente.gov.it/en/archive/ispra-events/year-2015/nove
 mber/presentation-of-the-photographic-volume-201cdeep-colors-of-the-medite
 rranean201d
END:VEVENT
END:VCALENDAR
