BEGIN:VCALENDAR
VERSION:2.0
PRODID:-//Plone.org//NONSGML plone.app.event//EN
X-WR-TIMEZONE:Europe/Berlin
BEGIN:VEVENT
SUMMARY:Report SOER 2015 - Presentation
DTSTART;TZID=GMT+0;VALUE=DATE-TIME:20151127T090000
DTEND;TZID=GMT+0;VALUE=DATE-TIME:20151127T130000
DTSTAMP;VALUE=DATE-TIME:20260423T073341Z
UID:8f6327187835427889ec8e859d616c3e@www.isprambiente.gov.it
CREATED;VALUE=DATE-TIME:20151110T115301Z
LAST-MODIFIED;VALUE=DATE-TIME:20160325T135444Z
LOCATION:Rome\, Auditorium MATTM\, Via Capitan Bavastro 180
URL:https://www.isprambiente.gov.it/en/archive/ispra-events/year-2015/nove
 mber/report-soer-2015-presentation
END:VEVENT
END:VCALENDAR
