BEGIN:VCALENDAR
VERSION:2.0
PRODID:-//Plone.org//NONSGML plone.app.event//EN
X-WR-TIMEZONE:Europe/Berlin
BEGIN:VEVENT
SUMMARY:River ecological status in accordance with Directive 2000/60/EC: a
 ssessment of data quality
DTSTART;TZID=GMT+0;VALUE=DATE-TIME:20151130T100000
DTEND;TZID=GMT+0;VALUE=DATE-TIME:20151130T163000
DTSTAMP;VALUE=DATE-TIME:20260423T074941Z
UID:7f90bc99a52542ed976bdda5d3ec4fe2@www.isprambiente.gov.it
CREATED;VALUE=DATE-TIME:20151110T154329Z
LAST-MODIFIED;VALUE=DATE-TIME:20160310T105807Z
URL:https://www.isprambiente.gov.it/en/archive/ispra-events/year-2015/nove
 mber/river-ecological-status-in-accordance-with-directive-2000-60-ec-asses
 sment-of-data-quality
END:VEVENT
END:VCALENDAR
