BEGIN:VCALENDAR
VERSION:2.0
PRODID:-//Plone.org//NONSGML plone.app.event//EN
X-WR-TIMEZONE:Europe/Berlin
BEGIN:VEVENT
SUMMARY:Suistainable development and Green Economy. Rome\, 28 January
DTSTART;TZID=GMT+0;VALUE=DATE-TIME:20130128T093000
DTEND;TZID=GMT+0;VALUE=DATE-TIME:20130128T121500
DTSTAMP;VALUE=DATE-TIME:20260423T105110Z
UID:fa45149059d44befa4f8789e14529ce0@www.isprambiente.gov.it
CREATED;VALUE=DATE-TIME:20130124T100158Z
DESCRIPTION:Simplification and incentives for green growth.
LAST-MODIFIED;VALUE=DATE-TIME:20140108T111420Z
LOCATION:Rome
URL:https://www.isprambiente.gov.it/en/archive/news-and-other-events/ispra
 -news/2013/01/suistainable-development-and-green-economy.-rome-28-january
END:VEVENT
END:VCALENDAR
