BEGIN:VCALENDAR
VERSION:2.0
PRODID:-//Plone.org//NONSGML plone.app.event//EN
X-WR-TIMEZONE:Europe/Berlin
BEGIN:VEVENT
SUMMARY:Sustainable use of water resources and flood protection. Napoli\, 
 10-11 January\, 2013
DTSTART;TZID=GMT+0;VALUE=DATE-TIME:20130110T093000
DTEND;TZID=GMT+0;VALUE=DATE-TIME:20130111T171500
DTSTAMP;VALUE=DATE-TIME:20260423T150956Z
UID:666465db005e40e99f126d9887011887@www.isprambiente.gov.it
CREATED;VALUE=DATE-TIME:20130110T130848Z
DESCRIPTION:Hidrogeologycal days
LAST-MODIFIED;VALUE=DATE-TIME:20140108T111422Z
LOCATION:Napoli
URL:https://www.isprambiente.gov.it/en/archive/news-and-other-events/ispra
 -news/2013/02/sustainable-use-of-water-resources-and-flood-protection.-nap
 oli-10-11-january-2013/index
END:VEVENT
END:VCALENDAR
