BEGIN:VCALENDAR
VERSION:2.0
PRODID:-//Plone.org//NONSGML plone.app.event//EN
X-WR-TIMEZONE:Europe/Berlin
BEGIN:VEVENT
SUMMARY:44° Conference of Italian Society of Marine Biology
DTSTART;TZID=GMT+0;VALUE=DATE-TIME:20130514T103000
DTEND;TZID=GMT+0;VALUE=DATE-TIME:20130516T133000
DTSTAMP;VALUE=DATE-TIME:20260421T205722Z
UID:4b5886ed70ca46818c6b9d5fd8db4d1c@www.isprambiente.gov.it
CREATED;VALUE=DATE-TIME:20130206T105224Z
DESCRIPTION:Conference
LAST-MODIFIED;VALUE=DATE-TIME:20140108T111426Z
LOCATION:Rome
URL:https://www.isprambiente.gov.it/en/archive/news-and-other-events/ispra
 -news/2013/05/44deg-conference-of-italian-society-of-marine-biology
END:VEVENT
END:VCALENDAR
