BEGIN:VCALENDAR
VERSION:2.0
PRODID:-//Plone.org//NONSGML plone.app.event//EN
X-WR-TIMEZONE:Europe/Berlin
BEGIN:VEVENT
SUMMARY:Biodiversity and ecosystem services: new opportunities
DTSTART;TZID=GMT+0;VALUE=DATE-TIME:20130509T150000
DTEND;TZID=GMT+0;VALUE=DATE-TIME:20130509T183000
DTSTAMP;VALUE=DATE-TIME:20260421T205645Z
UID:b1f4acc13c614e82b61757a2461b3095@www.isprambiente.gov.it
CREATED;VALUE=DATE-TIME:20130423T134217Z
LAST-MODIFIED;VALUE=DATE-TIME:20140108T111427Z
LOCATION:Rome\, Casa dell'Architettura (Acquario Romano) - Piazza Manfredo
  Fanti\, 47
URL:https://www.isprambiente.gov.it/en/archive/news-and-other-events/ispra
 -news/2013/05/biodiversity-and-ecosystem-services-new-opportunities
END:VEVENT
END:VCALENDAR
