BEGIN:VCALENDAR
VERSION:2.0
PRODID:-//Plone.org//NONSGML plone.app.event//EN
X-WR-TIMEZONE:Europe/Berlin
BEGIN:VEVENT
SUMMARY:Geological excursion in Rieti and the Plain of Rieti. Geological a
 nd   hydrogeological aspects or a territory rich in history and culture.
DTSTART;TZID=GMT+0;VALUE=DATE-TIME:20130525T094500
DTEND;TZID=GMT+0;VALUE=DATE-TIME:20130525T183000
DTSTAMP;VALUE=DATE-TIME:20260421T223805Z
UID:fe847366d37f42c5a9647836da2371ee@www.isprambiente.gov.it
CREATED;VALUE=DATE-TIME:20130327T161832Z
LAST-MODIFIED;VALUE=DATE-TIME:20200107T071537Z
URL:https://www.isprambiente.gov.it/en/archive/news-and-other-events/ispra
 -news/2013/05/geological-excursion-in-rieti-and-the-plain-of-rieti.-geolog
 ical-and-hydrogeological-aspects-or-a-territory-rich-in-history-and-cultur
 e
END:VEVENT
END:VCALENDAR
