BEGIN:VCALENDAR
VERSION:2.0
PRODID:-//Plone.org//NONSGML plone.app.event//EN
X-WR-TIMEZONE:Europe/Berlin
BEGIN:VEVENT
SUMMARY:III National Meeting of the National Group of Operational Oceanogr
 aphy
DTSTART;TZID=GMT+0;VALUE=DATE-TIME:20130603T173000
DTEND;TZID=GMT+0;VALUE=DATE-TIME:20130605T184500
DTSTAMP;VALUE=DATE-TIME:20260422T040229Z
UID:a8162e3c3a494f3087de94dff8dbeb1b@www.isprambiente.gov.it
CREATED;VALUE=DATE-TIME:20130510T150056Z
LAST-MODIFIED;VALUE=DATE-TIME:20140108T111427Z
URL:https://www.isprambiente.gov.it/en/archive/news-and-other-events/ispra
 -news/2013/05/iii-national-meeting-of-the-national-group-of-operational-oc
 eanography
END:VEVENT
END:VCALENDAR
