BEGIN:VCALENDAR
VERSION:2.0
PRODID:-//Plone.org//NONSGML plone.app.event//EN
X-WR-TIMEZONE:Europe/Berlin
BEGIN:VEVENT
SUMMARY:Interventions to improve the environment for wildlife and multifun
 ctionality of farms. Framework of legislation in the Region of Tuscany
DTSTART;TZID=GMT+0;VALUE=DATE-TIME:20130515T093000
DTEND;TZID=GMT+0;VALUE=DATE-TIME:20130515T130000
DTSTAMP;VALUE=DATE-TIME:20260421T223804Z
UID:717df869e195490085f98782a209eccd@www.isprambiente.gov.it
CREATED;VALUE=DATE-TIME:20130509T110612Z
DESCRIPTION:Conference
LAST-MODIFIED;VALUE=DATE-TIME:20140108T111427Z
LOCATION:Vaglioa ( FI)
URL:https://www.isprambiente.gov.it/en/archive/news-and-other-events/ispra
 -news/2013/05/interventions-to-improve-the-environment-for-wildlife-and-mu
 ltifunctionality-of-farms.-framework-of-legislation-in-the-region-of-tusca
 ny
END:VEVENT
END:VCALENDAR
