BEGIN:VCALENDAR
VERSION:2.0
PRODID:-//Plone.org//NONSGML plone.app.event//EN
X-WR-TIMEZONE:Europe/Berlin
BEGIN:VEVENT
SUMMARY:Simulate is convenient! Environmental models as a tool of  forecas
 ting and planning
DTSTART;TZID=GMT+0;VALUE=DATE-TIME:20130522T090000
DTEND;TZID=GMT+0;VALUE=DATE-TIME:20130522T170000
DTSTAMP;VALUE=DATE-TIME:20260421T223726Z
UID:f5119361faa84c18812bebf033dc744f@www.isprambiente.gov.it
CREATED;VALUE=DATE-TIME:20130507T110729Z
DESCRIPTION:Seminar
LAST-MODIFIED;VALUE=DATE-TIME:20140108T111427Z
LOCATION:Genova
URL:https://www.isprambiente.gov.it/en/archive/news-and-other-events/ispra
 -news/2013/05/simulate-is-convenient-environmental-models-as-a-tool-of-for
 ecasting-and-planning
END:VEVENT
END:VCALENDAR
